BEGIN:VCALENDAR
VERSION:2.0
PRODID:-//Library Market//iCal Export//EN
BEGIN:VEVENT
SUMMARY:S.A.L.T. Council (Seniors and Law Enforcement Together)
UID:557939
DTSTAMP:20260421T064600Z
DTSTART:20260817T180000Z
DTEND:20260817T190000Z
LOCATION:5901 NW 63rd Street, Warr Acres, OK 73132, United States
ROOM: Meeting Room A (Warr Acres)
DESCRIPTION:Come learn about the latest crimes/scams targeting seniors and
  how to avoid becoming a victim! This program is a part of TRIAD, a colla
 borative effort between the Sheriff&#039;s office, local police department
 s and senior citizens working together to reduce and prevent crimes agains
 t seniors.This council meets the 3rd Monday of every month at the Warr Acr
 es Library. 
URL:https://www.metrolibrary.org/event/salt-council-seniors-and-law-enforc
 ement-together-557939
END:VEVENT
END:VCALENDAR
