BEGIN:VCALENDAR
VERSION:2.0
PRODID:-//Library Market//iCal Export//EN
BEGIN:VEVENT
SUMMARY:Homeschool Parent Chats by the Fireplace
UID:566244
DTSTAMP:20260421T090400Z
DTSTART:20260804T000000Z
DTEND:20260804T010000Z
LOCATION:5901 NW 63rd Street, Warr Acres, OK 73132, United States
ROOM: Main Area (Warr Acres)
DESCRIPTION:These encouraging sessions for both current and prospective ho
 meschool parents will meet the first Monday of every month at 7 pm next to
  the Warr Acres Fireplace.  These sessions are designed to offer support,
  provide ideas, inspiration, and answers to questions. The sessions will b
 e moderated by Dana Wilson, a veteran homeschool parent, an active speaker
  and writer in the national homeschool community and founding board member
  of the grassroots homeschool advocacy organization Homeschool Now USA. Ha
 ving taught and graduated two children with multiple disabilities, Dana ha
 s a deep soft spot for those to whom academics don&#039;t come easy - and 
 for the parents who are lovingly teaching them at home. 
URL:https://www.metrolibrary.org/event/homeschool-parent-chats-fireplace-5
 66244
END:VEVENT
END:VCALENDAR
