BEGIN:VCALENDAR
VERSION:2.0
PRODID:-//Library Market//iCal Export//EN
BEGIN:VEVENT
SUMMARY:DIY Your Room- Session 1: Cupcake Flower Light Garland
UID:567443
DTSTAMP:20260421T090400Z
DTSTART:20260820T230000Z
DTEND:20260821T000000Z
LOCATION:5901 NW 63rd Street, Warr Acres, OK 73132, United States
ROOM: Meeting Room A (Warr Acres)
DESCRIPTION:Create a cozy, colorful decoration for your space in this hand
 s-on DIY program! Participants will make their own cupcake flower light ga
 rland, transforming simple materials into a fun lighted accent perfect for
  bedrooms.This program is part of the DIY Your Room series, offered every 
 2–3 months for teens to create unique decorations they can use to person
 alize their spaces with projects they’ve made themselves. All supplies p
 rovided; no experience needed!
URL:https://www.metrolibrary.org/event/stained-glass-pictures-567443
END:VEVENT
END:VCALENDAR
