BEGIN:VCALENDAR
VERSION:2.0
PRODID:-//Library Market//iCal Export//EN
BEGIN:VEVENT
SUMMARY:Caring Van Visit
UID:591770
DTSTAMP:20260421T064600Z
DTSTART:20260811T190000Z
DTEND:20260811T210000Z
LOCATION:5901 NW 63rd Street, Warr Acres, OK 73132, United States
ROOM: Outdoors (Warr Acres)
DESCRIPTION:The Oklahoma Caring Van delivers immunizations to protect chil
 dren and adolescents from dangerous illnesses at no cost to their families
 . The Oklahoma Caring Van is uniquely designed to eliminate barriers that 
 commonly prevent children from receiving on-time, age-appropriate immuniza
 tions in traditional health care settings.All vaccines required for school
  and childcare are available.A registered public health nurse administers 
 all vaccines. An updated copy of each child’s shot record is provided a
 t the conclusion of each clinic.Flu and Covid vaccinations will be availab
 le for children and adults. Vaccines are offered at no charge to those wh
 o are Medicaid-eligible, uninsured, or Native American **The Caring Van w
 ill be parked in front of the library.
URL:https://www.metrolibrary.org/event/caring-van-visit-591770
END:VEVENT
END:VCALENDAR
