BEGIN:VCALENDAR
VERSION:2.0
PRODID:-//Library Market//iCal Export//EN
BEGIN:VEVENT
SUMMARY:August Creative Writing Chapbook
UID:593704
DTSTAMP:20260421T045400Z
DTSTART:20260801T140000Z
DTEND:20260901T020000Z
LOCATION:5901 NW 63rd Street, Warr Acres, OK 73132, United States
ROOM: Onsite (Warr Acres)
DESCRIPTION:Have you always wanted to explore creative writing but never h
 ad the chance? Pick up one of our creative writing chapbooks filled with c
 reative writing exercises meant to strengthen your creative muscles!
URL:https://www.metrolibrary.org/event/august-creative-writing-chapbook-59
 3704
END:VEVENT
END:VCALENDAR
