BEGIN:VCALENDAR
VERSION:2.0
PRODID:-//Library Market//iCal Export//EN
BEGIN:VEVENT
SUMMARY:August Mindfulness Journal
UID:593705
DTSTAMP:20260421T081000Z
DTSTART:20260801T140000Z
DTEND:20260901T020000Z
LOCATION:5901 NW 63rd Street, Warr Acres, OK 73132, United States
ROOM: Onsite (Warr Acres)
DESCRIPTION:It can be difficult to take a moment to stop, slow down, and f
 ocus on something that’s good for our well-being. Pick up one of our mon
 thly mindfulness journals filled with prompts to help you focus on your me
 ntal health! 
URL:https://www.metrolibrary.org/event/august-mindfulness-journal-593705
END:VEVENT
END:VCALENDAR
