BEGIN:VCALENDAR
VERSION:2.0
PRODID:-//Library Market//iCal Export//EN
BEGIN:VEVENT
SUMMARY:Creative Writing Wednesday
UID:593736
DTSTAMP:20260421T060500Z
DTSTART:20260805T223000Z
DTEND:20260806T003000Z
LOCATION:5901 NW 63rd Street, Warr Acres, OK 73132, United States
ROOM: Meeting Room A (Warr Acres)
DESCRIPTION:Have you always wanted to explore creative writing but never h
 ad the chance? Are you looking for a supportive community of writers with 
 whom you can share your work? Join us every Wednesday where we&#039;ll be 
 creating original work and sharing our works in progress. This creative w
 riting program focuses on poetry but is open to all genres of writing and 
 all levels of writers!
URL:https://www.metrolibrary.org/event/creative-writing-wednesday-593736
END:VEVENT
END:VCALENDAR
