BEGIN:VCALENDAR
VERSION:2.0
PRODID:-//Library Market//iCal Export//EN
BEGIN:VEVENT
SUMMARY:Creative Writing Sunday
UID:593741
DTSTAMP:20260421T064600Z
DTSTART:20260809T200000Z
DTEND:20260809T220000Z
LOCATION:5901 NW 63rd Street, Warr Acres, OK 73132, United States
ROOM: Meeting Room A (Warr Acres)
DESCRIPTION:Have you always wanted to explore creative writing but never h
 ad the chance? Are you looking for a supportive community of writers with 
 whom you can share your work? Join us every Sunday where we&#039;ll be cre
 ating original work and sharing our works in progress. This creative writ
 ing program focuses on memoir and personal essays but is open to all genre
 s of writing and all levels of writers!
URL:https://www.metrolibrary.org/event/creative-writing-sunday-593741
END:VEVENT
END:VCALENDAR
