BEGIN:VCALENDAR
VERSION:2.0
PRODID:-//Library Market//iCal Export//EN
BEGIN:VEVENT
SUMMARY:Watercolor Painting for Adults
UID:599809
DTSTAMP:20260421T064600Z
DTSTART:20260801T150000Z
DTEND:20260801T170000Z
LOCATION:5901 NW 63rd Street, Warr Acres, OK 73132, United States
ROOM: Meeting Room A (Warr Acres)
DESCRIPTION:Relax and get creative at this watercolor painting program for
  adults. Local artist Jim Pourtorkan will guide participants through basic
  techniques and tips, making this session welcoming for beginners and expe
 rienced painters alike. All supplies are provided, so just bring your crea
 tivity and enjoy a calm, hands-on art experience at the library.
URL:https://www.metrolibrary.org/event/watercolor-painting-adults-599809
END:VEVENT
END:VCALENDAR
