BEGIN:VCALENDAR
VERSION:2.0
PRODID:-//Library Market//iCal Export//EN
BEGIN:VEVENT
SUMMARY:Take Home Kit- Reading Tracker
UID:610923
DTSTAMP:20260421T090400Z
DTSTART:20260803T141500Z
DTEND:20260808T211500Z
LOCATION:5901 NW 63rd Street, Warr Acres, OK 73132, United States
ROOM: Onsite (Warr Acres)
DESCRIPTION:Stay motivated and make reading fun! This take-home kit includ
 es a customizable reading tracker and goal-setting tools to help readers b
 uild strong habits and celebrate their progress. Perfect for tracking book
 s, pages, or reading time while encouraging a love of reading at home.
URL:https://www.metrolibrary.org/event/take-home-kit-reading-tracker-61092
 3
END:VEVENT
END:VCALENDAR
