BEGIN:VCALENDAR
VERSION:2.0
PRODID:-//Library Market//iCal Export//EN
BEGIN:VEVENT
SUMMARY:Dungeons and Dragons
UID:610943
DTSTAMP:20260421T103100Z
DTSTART:20260813T230000Z
DTEND:20260814T000000Z
LOCATION:5901 NW 63rd Street, Warr Acres, OK 73132, United States
ROOM: Meeting Room A (Warr Acres)
DESCRIPTION:Make sure you register today for Dungeons and Dragons and join
  the fun!
URL:https://www.metrolibrary.org/event/dungeons-and-dragons-610943
END:VEVENT
END:VCALENDAR
