BEGIN:VCALENDAR
VERSION:2.0
PRODID:-//Library Market//iCal Export//EN
BEGIN:VEVENT
SUMMARY:Diamond Art for Adults
UID:611413
DTSTAMP:20260423T012800Z
DTSTART:20260601T230000Z
DTEND:20260602T010000Z
LOCATION:10 S Boulevard, Edmond, OK 73034, United States
ROOM: Meeting Room AB (Edmond)
DESCRIPTION:One of this year’s trending hobbies, diamond painting involv
 es attaching “diamonds” (actually small gems or rhinestones) to a canv
 as by matching them to numbers, similar to painting by numbers. You don’
 t need to be naturally artistic or have any prior crafting experience to e
 njoy unearthing a flower, bird or butterfly pattern on one of our small an
 d simple kits, so come dig in to diamonds with us! NOTE: This program is 
 for adults. A separate teen program will be held on Thursday, June 18th.
URL:https://www.metrolibrary.org/event/dig-diamond-art-611413
END:VEVENT
END:VCALENDAR
