BEGIN:VCALENDAR
VERSION:2.0
PRODID:-//Library Market//iCal Export//EN
BEGIN:VEVENT
SUMMARY:CANCELLED: Oklahoma County Clerk&#039;s Office: Property Alert Sys
 tem
UID:613078
DTSTAMP:20260424T023900Z
DTSTART:20260421T183000Z
DTEND:20260421T210000Z
LOCATION:2000 NE 23rd Street, Oklahoma City, OK 73111, United States
ROOM: Lobby (Ralph Ellison)
DESCRIPTION:Staff from the Oklahoma County Clerk&#039;s office will be at 
 Ralph Ellison Library on the third Tuesday of every month to help promote 
 their Property Alert System, DD 214 filings for veterans. They are able to
  file deeds, liens, and more. They want to make it easier for everyone to 
 file their Property Alert System forms and DD214 filings, for free, withou
 t having to go to their office.
URL:https://www.metrolibrary.org/event/oklahoma-county-clerks-office-prope
 rty-alert-system-613078
END:VEVENT
END:VCALENDAR
