BEGIN:VCALENDAR
VERSION:2.0
PRODID:-//Library Market//iCal Export//EN
BEGIN:VEVENT
SUMMARY:YMCA-Jump &amp; Go!
UID:615604
DTSTAMP:20260421T064600Z
DTSTART:20260810T140000Z
DTEND:20260810T144500Z
LOCATION:5901 NW 63rd Street, Warr Acres, OK 73132, United States
ROOM: Outdoors (Warr Acres)
DESCRIPTION:Jump, crawl, and stretch in this high-energy movement class de
 signed just for kids! This fun-filled program focuses on building strengt
 h, coordination, balance, and confidence through active play. Led by a cer
 tified group exercise instructor from the YMCA, children will explore acti
 vities like bear crawls, frog leaps, jumping jacks, yoga stretches, and ev
 en a little meditation.Weather permitting, we’ll take Jump &amp; Go outd
 oors for even more room to move and play. Don’t miss this exciting way t
 o stay active at the library!
URL:https://www.metrolibrary.org/event/ymca-jump-go-615604
END:VEVENT
END:VCALENDAR
