BEGIN:VCALENDAR
VERSION:2.0
PRODID:-//Library Market//iCal Export//EN
BEGIN:VEVENT
SUMMARY:Music with Ginger
UID:620626
DTSTAMP:20260423T031300Z
DTSTART:20260710T150000Z
DTEND:20260710T154500Z
LOCATION:10 S Boulevard, Edmond, OK 73034, United States
ROOM: Meeting Room AB (Edmond)
DESCRIPTION:Due to the growing number of participants, you MUST REGISTER f
 or the program. Please register each child individually. Thank you!
URL:https://www.metrolibrary.org/event/music-ginger-620626
END:VEVENT
END:VCALENDAR
