BEGIN:VCALENDAR
VERSION:2.0
PRODID:-//Library Market//iCal Export//EN
BEGIN:VEVENT
SUMMARY:Tales from the Silver Screen: Jurassic Park (1993)
UID:625556
DTSTAMP:20260423T012800Z
DTSTART:20260702T000000Z
DTEND:20260702T010000Z
LOCATION:10 S Boulevard, Edmond, OK 73034, United States
ROOM: Meeting Room D (Edmond)
DESCRIPTION:Live and in color! Come join us for a movie discussion on film
 s new and old. Each month we will be talking about a different film. There
  will be discussion questions, trivia, and popcorn provided! After viewing
  the film on your own time, join us for the discussion on the 1st Wednesda
 y of each month at 7:00pm.  All movies are available for check out at the 
 Metro library. Hope to see you there!
URL:https://www.metrolibrary.org/event/tales-silver-screen-jurassic-park-1
 993-625556
END:VEVENT
END:VCALENDAR
