BEGIN:VCALENDAR
VERSION:2.0
PRODID:-//Library Market//iCal Export//EN
BEGIN:VEVENT
SUMMARY:Tai Chi with OU
UID:626915
DTSTAMP:20260422T050600Z
DTSTART:20260730T150000Z
DTEND:20260730T160000Z
LOCATION:9295 Willa Way, Jones, OK 73049, United States
ROOM: Meeting Room (Jones)
DESCRIPTION:Tap into the many mind/body benefits of practicing Tai Chi in 
 this beginner friendly 6-week course. Open to adults of all ages.
URL:https://www.metrolibrary.org/event/tai-chi-ou-626915
END:VEVENT
END:VCALENDAR
