BEGIN:VCALENDAR
VERSION:2.0
PRODID:-//Library Market//iCal Export//EN
BEGIN:VEVENT
SUMMARY:Storytime
UID:627059
DTSTAMP:20260422T050600Z
DTSTART:20260904T150000Z
DTEND:20260904T154500Z
LOCATION:9295 Willa Way, Jones, OK 73049, United States
ROOM: Meeting Room (Jones)
DESCRIPTION:
URL:https://www.metrolibrary.org/event/storytime-627059
END:VEVENT
END:VCALENDAR
