BEGIN:VCALENDAR
VERSION:2.0
PRODID:-//Library Market//iCal Export//EN
BEGIN:VEVENT
SUMMARY:Early Birds for Caregivers &amp; 1-2 Year Olds
UID:627535
DTSTAMP:20260422T053500Z
DTSTART:20260611T150000Z
DTEND:20260611T160000Z
LOCATION:2525 Muzzy Street, Choctaw, OK 73020, United States
ROOM: Meeting Room (Choctaw)
DESCRIPTION:Receive and learn how to use a set of free educational toys fo
 r your 1-2 year old. The Early Birds program can help with early childhood
  education and school readiness for children under the age of 5.This progr
 am is designed for families and caregivers who have children who are ages 
 1-2.  The Sunbeam Family Services Early Birds are an organization that su
 pports learning through play in early education. They prepare a bag of edu
 cational toys that are free to attendees who learn how to use and support 
 school readiness at home which will be mailed to participants after the cl
 ass.Please register for this program for their grant purposes. Registrati
 on link will be provided closer to the start of the class.Please feel free
  to bring other items to keep your children comfortable during this class.
  We will have some toys and books available as well.
URL:https://www.metrolibrary.org/event/early-birds-caregivers-1-2-year-old
 s-627535
END:VEVENT
END:VCALENDAR
