BEGIN:VCALENDAR
VERSION:2.0
PRODID:-//Library Market//iCal Export//EN
BEGIN:VEVENT
SUMMARY:Liquid Light and Shadows with BC Summers
UID:628202
DTSTAMP:20260422T230000Z
DTSTART:20260611T190000Z
DTEND:20260611T210000Z
LOCATION:6700 NW 35th Street, Bethany, OK 73008, United States
ROOM: Meeting Room A (Bethany)
DESCRIPTION:Join us for a magical making event using light, paint, and sha
 dows. Oklahoma Contemporary Educator BC Summers will lead children through
  a liquid light shadow puppetry make and create. Learn how light and darkÂ
  transform art. We&#039;ll even use old-school light projectors to illumin
 ate our creations.Â After the program, make sure the check out the SOLID L
 IGHT exhibit at Oklahoma Contemporary, 11 NW 11thÂ St, Oklahoma City. Admi
 ssion to the galleries is always free. This event is made possible by gene
 rous funding from Kirkpatrick Foundation.Â Â Â This program is best for ch
 ildren ages 6-12. Registration is required and space is limited.Â 
URL:https://www.metrolibrary.org/event/solid-light-oklahoma-contemporary-6
 28202
END:VEVENT
END:VCALENDAR
