BEGIN:VCALENDAR
VERSION:2.0
PRODID:-//Library Market//iCal Export//EN
BEGIN:VEVENT
SUMMARY:Pages &amp; Prose Parcel
UID:628715
DTSTAMP:20260420T061700Z
DTSTART:20260706T140000Z
DTEND:20260716T020000Z
LOCATION:
DESCRIPTION:Pages &amp; Prose Parcel is a three-month library book box sub
 scription service geared toward children ages 7 – 12. Children up to age
  18 may sign up, but the highest reading level of books selected will be J
 unior Nonfiction or Junior Fiction.  No Young Adult or Adult books will b
 e selected for this program. When you sign up for the service you will rec
 eive 3 fiction or nonfiction library books picked specifically for you to 
 check out each month. While you must return the library books and subscrip
 tion box, each month you will receive special mystery gifts to keep. Pleas
 e refer to the &quot;Frequently Asked Questions&quot; link for more inform
 ation.
URL:https://www.metrolibrary.org/event/pages-prose-parcel-628715
END:VEVENT
END:VCALENDAR
