BEGIN:VCALENDAR
VERSION:2.0
PRODID:-//Library Market//iCal Export//EN
BEGIN:VEVENT
SUMMARY:Stained Glass Creation--Experience Art Like Never Before!
UID:629017
DTSTAMP:20260422T050600Z
DTSTART:20260630T230000Z
DTEND:20260701T000000Z
LOCATION:2525 Muzzy Street, Choctaw, OK 73020, United States
ROOM: Meeting Room (Choctaw)
DESCRIPTION:Step into a canvas of light, shapes, colors, lines and shadows
  using stain glass creations and mini LED flashlights. Immerse yourself an
 d become a part of the art itself. All registered and participating guests
  will walk away having had a unique art experience, as well as taking home
  a stain glass piece of art. *CAUTION - We will be using real glass. Afte
 r the program, make sure the check out the SOLID LIGHT exhibit at Oklahoma
  Contemporary, 11 NW 11th St, Oklahoma City. Admission to the galleries i
 s always free. This event is made possible by generous funding from Kirkp
 atrick Foundation.   
URL:https://www.metrolibrary.org/event/stained-glass-creation-experience-a
 rt-never-629017
END:VEVENT
END:VCALENDAR
