BEGIN:VCALENDAR
VERSION:2.0
PRODID:-//Library Market//iCal Export//EN
BEGIN:VEVENT
SUMMARY:Family Movie Afternoon
UID:629037
DTSTAMP:20260422T050600Z
DTSTART:20260705T190000Z
DTEND:20260705T210000Z
LOCATION:2525 Muzzy Street, Choctaw, OK 73020, United States
ROOM: Meeting Room (Choctaw)
DESCRIPTION:Join us at Choctaw on the first Sunday of every month for Fami
 ly Movie Afternoon. There will be crafts that go along with the movie. And
  of course popcorn and drinks will be provided!This month&#039;s movie: To
  Be Announced
URL:https://www.metrolibrary.org/event/family-movie-afternoon-629037
END:VEVENT
END:VCALENDAR
