BEGIN:VCALENDAR
VERSION:2.0
PRODID:-//Library Market//iCal Export//EN
BEGIN:VEVENT
SUMMARY:Family Movie Afternoon
UID:629041
DTSTAMP:20260422T043700Z
DTSTART:20261206T200000Z
DTEND:20261206T220000Z
LOCATION:2525 Muzzy Street, Choctaw, OK 73020, United States
ROOM: Meeting Room (Choctaw)
DESCRIPTION:Join us at Choctaw on the first Sunday of every month for Fami
 ly Movie Afternoon. There will be crafts that go along with the movie. And
  of course popcorn and drinks will be provided!This month&#039;s movie: To
  Be Announced
URL:https://www.metrolibrary.org/event/family-movie-afternoon-629041
END:VEVENT
END:VCALENDAR
