BEGIN:VCALENDAR
VERSION:2.0
PRODID:-//Library Market//iCal Export//EN
BEGIN:VEVENT
SUMMARY:Crafty Kids Club
UID:629043
DTSTAMP:20260422T053500Z
DTSTART:20260805T210000Z
DTEND:20260805T220000Z
LOCATION:2525 Muzzy Street, Choctaw, OK 73020, United States
ROOM: Meeting Room (Choctaw)
DESCRIPTION:Hey kids! Ready to get messy, make cool stuff, and have tons o
 f fun? Join the Crafty Kids Club where you’ll create awesome crafts, try
  new projects, and show off your imagination! Bring your creativity and ma
 ke something amazing!
URL:https://www.metrolibrary.org/event/crafty-kids-club-629043
END:VEVENT
END:VCALENDAR
