BEGIN:VCALENDAR
VERSION:2.0
PRODID:-//Library Market//iCal Export//EN
BEGIN:VEVENT
SUMMARY:Neon Light Art Show!
UID:629365
DTSTAMP:20260421T042500Z
DTSTART:20260709T190000Z
DTEND:20260709T210000Z
LOCATION:6700 NW 35th Street, Bethany, OK 73008, United States
ROOM: Meeting Room A (Bethany)
DESCRIPTION:Did you know LIGHT can be used to make art? Artist Dan Flavin 
 used fluorescent bulbs and other colored light sources to transform spaces
  for his entire career. Join us at the library as we create our own galler
 y of &quot;neon&quot; art. Best for ages 5-10. Adult supervision is requir
 ed as we will be using hot glue. Take home your creation after the program
  to admire the entire evening.  After the program, make sure the check o
 ut the SOLID LIGHT exhibit at Oklahoma Contemporary, 11 NW 11th St, Oklah
 oma City. Admission to the galleries is always free. This event is made po
 ssible by generous funding from Kirkpatrick Foundation.  Space is limite
 d. Registration is required. 
URL:https://www.metrolibrary.org/event/neon-light-art-show-629365
END:VEVENT
END:VCALENDAR
