BEGIN:VCALENDAR
VERSION:2.0
PRODID:-//Library Market//iCal Export//EN
BEGIN:VEVENT
SUMMARY:Stained Glass Creation--Experience Art Like Never Before!  
UID:629368
DTSTAMP:20260424T214100Z
DTSTART:20260620T190000Z
DTEND:20260620T200000Z
LOCATION:6700 NW 35th Street, Bethany, OK 73008, United States
ROOM: Meeting Room A (Bethany)
DESCRIPTION:Step into a canvas of light, shapes, colors, lines and shadows
  using stain glass creations and mini LED flashlights. Immerse yourself an
 d become a part of the art itself. All registered and participating guests
  will walk away having had a unique art experience, as well as taking home
  a stain glass piece of art.  *CAUTION - We will be using real glass. Th
 is program is for ages 12 and up. Registration is required and space is li
 mited.   After the program, make sure the check out the SOLID LIGHT exh
 ibit at Oklahoma Contemporary, 11 NW 11th St, Oklahoma City. Admission to
  the galleries is always free. This event is made possible by generous fun
 ding from Kirkpatrick Foundation.     
URL:https://www.metrolibrary.org/event/stained-glass-creation-experience-a
 rt-never-629368
END:VEVENT
END:VCALENDAR
