BEGIN:VCALENDAR
VERSION:2.0
PRODID:-//Library Market//iCal Export//EN
BEGIN:VEVENT
SUMMARY:The Plot Twist-Book Boxes for Teens
UID:629371
DTSTAMP:20260420T061700Z
DTSTART:20260705T144500Z
DTEND:20260717T220000Z
LOCATION:5901 NW 63rd Street, Warr Acres, OK 73132, United States
ROOM: Onsite (Warr Acres)
DESCRIPTION:Plot Twist: Teen Book Boxes are a fun way to discover your nex
 t favorite YA reads! Sign up for this three month subscription period and 
 receive a personalized book box each month with 2–3 YA books picked just
  for you, based on your interests. Fill out the response card in your box 
 and return it to help us fine-tune your next selections. Each box also inc
 ludes a few surprise mystery items to keep, making every month a new plot 
 twist you won’t see coming. 📚✨Questions? Check out the FAQs link at
  the right of this page!This subscription period is for June, July and Aug
 ust. Sign up by July 17th to receive your first box by August 1st!Fill out
  the attach questionnaire to get your personalized reading box! Pick up fo
 r boxes is the the first week of each month for June, July, and August. Re
 turn the response card by the 15th of each month to get your selections up
 dated for the next month. Books and the box must be returned; however you 
 can keep the treats inside each box!   
URL:https://www.metrolibrary.org/event/plot-twist-book-boxes-teens-629371
END:VEVENT
END:VCALENDAR
