BEGIN:VCALENDAR
VERSION:2.0
PRODID:-//Library Market//iCal Export//EN
BEGIN:VEVENT
SUMMARY:Dan Flavin Inspired Neon Art Show!
UID:629398
DTSTAMP:20260422T053500Z
DTSTART:20260718T160000Z
DTEND:20260718T170000Z
LOCATION:1930 N Church Ave, Harrah, OK 73045, United States
ROOM: In-Library (Harrah)
DESCRIPTION:Neon Light Art Show! Did you know LIGHT can be used to make a
 rt? Artist Dan Flavin used fluorescent bulbs and other colored light sourc
 es to transform spaces for his entire career. Join us at the library as we
  create our own gallery of &quot;neon&quot; art. Best for ages 5-10. Adult
  supervisoion is required as we will be using hot glue. Take home your cre
 ation after the program to admire the entire evening.  After the program
 , make sure the check out the SOLID LIGHT exhibit at Oklahoma Contemporary
 , 11 NW 11th St, Oklahoma City. Admission to the galleries is always free
 . This event is made possible by generous funding from Kirkpatrick Foundat
 ion.
URL:https://www.metrolibrary.org/event/dan-flavin-inspired-neon-art-show-6
 29398
END:VEVENT
END:VCALENDAR
