BEGIN:VCALENDAR
VERSION:2.0
PRODID:-//Library Market//iCal Export//EN
BEGIN:VEVENT
SUMMARY:Shadow Play for Kids!
UID:629622
DTSTAMP:20260420T061700Z
DTSTART:20260620T190000Z
DTEND:20260620T200000Z
LOCATION:5901 NW 63rd Street, Warr Acres, OK 73132, United States
ROOM: Meeting Room A (Warr Acres)
DESCRIPTION:Join us to create artful shadow puppets and make dynamic scene
 s by shining the light on our creations. Kiddos will build their own sculp
 tural figures and objects using recycled materials to create shadow box sc
 enes using light as art.  After the program, make sure the check out the
  SOLID LIGHT exhibit at Oklahoma Contemporary, 11 NW 11th St, Oklahoma Ci
 ty. Admission to the galleries is always free. This event is made possibl
 e by generous funding from Kirkpatrick Foundation. 
URL:https://www.metrolibrary.org/event/shadow-play-kids-629622
END:VEVENT
END:VCALENDAR
