BEGIN:VCALENDAR
VERSION:2.0
PRODID:-//Library Market//iCal Export//EN
BEGIN:VEVENT
SUMMARY:Neon Light Art Show! 
UID:629684
DTSTAMP:20260420T061700Z
DTSTART:20260608T200000Z
DTEND:20260608T210000Z
LOCATION:5901 NW 63rd Street, Warr Acres, OK 73132, United States
ROOM: Meeting Room A (Warr Acres)
DESCRIPTION:Did you know LIGHT can be used to make art? Artist Dan Flavin 
 used fluorescent bulbs and other colored light sources to transform spaces
  for his entire career. Join us at the library as we create our own galler
 y of &quot;neon&quot; art. Take home your creation after the program to ad
 mire the entire evening. After the program, make sure to check out the SO
 LID LIGHT exhibit at Oklahoma Contemporary, 11 NW 11th St, Oklahoma City.
  Admission to the galleries is always free. This event is made possible by
  generous funding from Kirkpatrick Foundation.  Best for ages 5-10. Adul
 t supervision is required as we will be using hot glue.
URL:https://www.metrolibrary.org/event/neon-light-art-show-629684
END:VEVENT
END:VCALENDAR
