BEGIN:VCALENDAR
VERSION:2.0
PRODID:-//Library Market//iCal Export//EN
BEGIN:VEVENT
SUMMARY:Build Your Financial Foundation: A 3-Week Workshop Series
UID:630252
DTSTAMP:20260421T081000Z
DTSTART:20260808T170000Z
DTEND:20260808T180000Z
LOCATION:5901 NW 63rd Street, Warr Acres, OK 73132, United States
ROOM: Meeting Room A (Warr Acres)
DESCRIPTION:Take control of your financial future with this practical and 
 engaging 3-part series! Each one-hour session explores a key topic in pers
 onal finance-- from building wealth and understanding interest to managing
  debt and navigating taxes. Whether you are just starting out or looking t
 o strengthen your financial know-how, this workshop will give you the tool
 s and confidence to make informed money decisions. Join us and start buil
 ding a solid foundation for lasting financial success! This workshop will
  be taught in English. 
URL:https://www.metrolibrary.org/event/build-your-financial-foundation-3-w
 eek-workshop-series-630252
END:VEVENT
END:VCALENDAR
