BEGIN:VCALENDAR
VERSION:2.0
PRODID:-//Library Market//iCal Export//EN
BEGIN:VEVENT
SUMMARY:Financial Foundations Cash Flow Game Party
UID:630283
DTSTAMP:20260421T073900Z
DTSTART:20260830T180000Z
DTEND:20260830T193000Z
LOCATION:5901 NW 63rd Street, Warr Acres, OK 73132, United States
ROOM: Meeting Room A (Warr Acres)
DESCRIPTION:Come enjoy a fun Game of Cash Flow! You will learn more about 
 having a strong Financial Foundation through this interactive game. Feel f
 ree to come for part or all of the game and enjoy some light snacks and re
 freshments while learning how to make your Cash Flow!  
URL:https://www.metrolibrary.org/event/financial-foundations-cash-flow-gam
 e-party-630283
END:VEVENT
END:VCALENDAR
