BEGIN:VCALENDAR
VERSION:2.0
PRODID:-//Library Market//iCal Export//EN
BEGIN:VEVENT
SUMMARY:Summer Reading Presentation @ CMS
UID:630300
DTSTAMP:20260422T043700Z
DTSTART:20260508T134500Z
DTEND:20260508T144500Z
LOCATION:Metropolitan Library System, Choctaw Middle School, Choctaw, OK 7
 3020, United States
ROOM: Offsite (Choctaw)
DESCRIPTION:
URL:https://www.metrolibrary.org/event/summer-reading-presentation-cms-630
 300
END:VEVENT
END:VCALENDAR
