BEGIN:VCALENDAR
VERSION:2.0
PRODID:-//Library Market//iCal Export//EN
BEGIN:VEVENT
SUMMARY:OKC Philharmonic Outreach
UID:630381
DTSTAMP:20260421T042500Z
DTSTART:20260417T223000Z
DTEND:20260418T023000Z
LOCATION:Civic Center Music Hall, 201 N Walker Ave, Oklahoma City, OK 7310
 2, United States
ROOM: OKC Philharmonic Outreach
DESCRIPTION:
URL:https://www.metrolibrary.org/event/okc-philharmonic-outreach-630381
END:VEVENT
END:VCALENDAR
