BEGIN:VCALENDAR
VERSION:2.0
PRODID:-//Library Market//iCal Export//EN
BEGIN:VEVENT
SUMMARY:Teen Homeschool Hangout
UID:630456
DTSTAMP:20260422T043700Z
DTSTART:20261228T200000Z
DTEND:20261228T213000Z
LOCATION:2525 Muzzy Street, Choctaw, OK 73020, United States
ROOM: Meeting Room (Choctaw)
DESCRIPTION:Calling all teen readers! Join us at the Choctaw Library for T
 een Homeschool Hangout! Make crafts, play games, discover new books, and s
 ocialize with kids your own age.This will be a recurring event on the 4th 
 Monday of the month.  Parents are strongly encouraged to leave the room i
 n order for the teens to feel empowered to socialize in a teen-central env
 ironment.  
URL:https://www.metrolibrary.org/event/teen-homeschool-hangout-630456
END:VEVENT
END:VCALENDAR
