BEGIN:VCALENDAR
VERSION:2.0
PRODID:-//Library Market//iCal Export//EN
BEGIN:VEVENT
SUMMARY:Dinosaur Trinket Dishes
UID:630460
DTSTAMP:20260422T050600Z
DTSTART:20260711T190000Z
DTEND:20260711T210000Z
LOCATION:2525 Muzzy Street, Choctaw, OK 73020, United States
ROOM: Meeting Room (Choctaw)
DESCRIPTION:Come to the Choctaw Library and create a clay trinket dish tha
 t will make an impression! Using air-dry clay and a selection of dinosaur
  themed stamps, guests will be able to create a custom trinket dish for th
 eir home.   *Please note that the use of air-dry clay means that the dis
 hes will have to dry for several days before they can be taken home.  
URL:https://www.metrolibrary.org/event/dinosaur-trinket-dishes-630460
END:VEVENT
END:VCALENDAR
