BEGIN:VCALENDAR
VERSION:2.0
PRODID:-//Library Market//iCal Export//EN
BEGIN:VEVENT
SUMMARY:Our Blood Institute Blood Drive
UID:630511
DTSTAMP:20260425T032100Z
DTSTART:20260511T190000Z
DTEND:20260511T210000Z
LOCATION:5501 N. Villa Ave., Oklahoma City, OK 73112, United States
ROOM: Outdoors (Belle Isle)
DESCRIPTION:The Mobile Blood Drive Vehicle will be on site from 2PM - 4PM.
  Walk-ups are allowed, but registration is encouraged. Please register in
  advance at this link: https://www.yourbloodinstitute.org/donor/schedules/
 drive_schedule/693589 
URL:https://www.metrolibrary.org/event/out-blood-institute-blood-drive-630
 511
END:VEVENT
END:VCALENDAR
