BEGIN:VCALENDAR
VERSION:2.0
PRODID:-//Library Market//iCal Export//EN
BEGIN:VEVENT
SUMMARY:All Ages LEGO
UID:630576
DTSTAMP:20260421T064600Z
DTSTART:20260811T233000Z
DTEND:20260812T003000Z
LOCATION:5901 NW 63rd Street, Warr Acres, OK 73132, United States
ROOM: Meeting Room A (Warr Acres)
DESCRIPTION:Join us for a special LEGO program celebrating World Wildlife 
 Day! Build wild animals, lush habitats, and amazing ecosystems—or invent
  your own fantastical creatures. This all-ages event is perfect for famili
 es and anyone who loves to build. All LEGO bricks will be provided—imag
 ination required!
URL:https://www.metrolibrary.org/event/all-ages-lego-630576
END:VEVENT
END:VCALENDAR
