BEGIN:VCALENDAR
VERSION:2.0
PRODID:-//Library Market//iCal Export//EN
BEGIN:VEVENT
SUMMARY:Game On! Game Night
UID:630599
DTSTAMP:20260423T012800Z
DTSTART:20260715T230000Z
DTEND:20260716T010000Z
LOCATION:10 S Boulevard, Edmond, OK 73034, United States
ROOM: Meeting Room AB (Edmond)
DESCRIPTION:Step into an evening of fun at the library! Perfect for adult 
 and teen game lovers, this free event promises giggles, friendly competiti
 on, and quality time with family and friends.  Playing tabletop games hel
 ps to build skills such as: problem solving, teamwork, spatial reasoning, 
 and communication. Playing games is also a great way to reduce stress and 
 boost your mood! A large assortment of board games will be provided to pic
 k from or you can bring some of your own. Come and go, no registration ne
 cessary.
URL:https://www.metrolibrary.org/event/game-game-night-630599
END:VEVENT
END:VCALENDAR
