BEGIN:VCALENDAR
VERSION:2.0
PRODID:-//Library Market//iCal Export//EN
BEGIN:VEVENT
SUMMARY:Downtown OKC Day at Kerr Park!
UID:630602
DTSTAMP:20260421T045400Z
DTSTART:20260603T160000Z
DTEND:20260603T183000Z
LOCATION:Downtown Oklahoma City Partnership, Kerr Park, 102 Robert S Kerr 
 Ave., Oklahoma City, OK 73102-3600, United States
ROOM: Offsite (Downtown)
DESCRIPTION:Downtown OKC Day is returning to Kerr Park on Wednesday, June 
 3, 11:00am-1:30pm. Formerly Downtown Appreciation Day, this event allows u
 s to say THANK YOU to the employees, residents, and visitors that make dow
 ntown the exciting place it is today. In addition to food trucks, lawn gam
 es, and music, we include various services and nonprofits in the downtown 
 community. 
URL:https://www.metrolibrary.org/event/downtown-okc-day-kerr-park-630602
END:VEVENT
END:VCALENDAR
