BEGIN:VCALENDAR
VERSION:2.0
PRODID:-//Library Market//iCal Export//EN
BEGIN:VEVENT
SUMMARY:Glass Plates Experimental Light
UID:630764
DTSTAMP:20260422T015000Z
DTSTART:20260530T150000Z
DTEND:20260530T170000Z
LOCATION:1930 N Church Ave, Harrah, OK 73045, United States
ROOM: In-Library (Harrah)
DESCRIPTION:Stained Glass Creation--Experience Art Like Never Before!  S
 tep into a canvas of light, shapes, colors, lines and shadows using stain 
 glass creations and mini LED flashlights. Immerse yourself and become a pa
 rt of the art itself. All registered and participating guests will walk aw
 ay having had a unique art experience, as well as taking home a stain glas
 s piece of art. *CAUTION - We will be using real glass. After the program
 , make sure the check out the SOLID LIGHT exhibit at Oklahoma Contemporary
 , 11 NW 11th St, Oklahoma City. Admission to the galleries is always free
 .  This event is made possible by generous funding from Kirkpatrick Foun
 dation.
URL:https://www.metrolibrary.org/event/glass-plates-experimental-light-630
 764
END:VEVENT
END:VCALENDAR
