BEGIN:VCALENDAR
VERSION:2.0
PRODID:-//Library Market//iCal Export//EN
BEGIN:VEVENT
SUMMARY:Pepper&#039;s Ghost Take Home Kit
UID:630798
DTSTAMP:20260421T235700Z
DTSTART:20260623T143000Z
DTEND:20260627T213000Z
LOCATION:
DESCRIPTION:Ever wonder how funhouses and classic movies created ghosts or
  fantastical beings out of thin air? Many were created by the Pepper&#039;
 s Ghost illusion. Popularized by John Henry Pepper, this optical illusion 
 projects an image of a real object across the room. The effect can be othe
 rworldly. This kit allows kids 7-12 to create their own smaller version at
  home. This kit is made possible by Kirkpatrick Foundation.Come by and pic
 k yours up - no registration required!
URL:https://www.metrolibrary.org/event/peppers-ghost-take-home-kit-630798
END:VEVENT
END:VCALENDAR
