BEGIN:VCALENDAR
VERSION:2.0
PRODID:-//Library Market//iCal Export//EN
BEGIN:VEVENT
SUMMARY:Neon Light Art Show! 
UID:630821
DTSTAMP:20260422T060300Z
DTSTART:20260627T190000Z
DTEND:20260627T200000Z
LOCATION:5600 NW 122nd Street, Oklahoma City, OK 73142, United States
ROOM: Meeting Room B (Northwest)
DESCRIPTION:Did you know LIGHT can be used to make art? Artist Dan Flavin 
 used fluorescent bulbs and other colored light sources to transform spaces
  for his entire career. Join us at the library as we create our own galler
 y of &quot;neon&quot; art. Best for ages 5-10. Adult supervisoion is requi
 red as we will be using hot glue. Take home your creation after the progra
 m to admire the entire evening.  After the program, make sure the check 
 out the SOLID LIGHT exhibit at Oklahoma Contemporary, 11 NW 11th St, Okla
 homa City. Admission to the galleries is always free. This event is made p
 ossible by generous funding from Kirkpatrick Foundation. 
URL:https://www.metrolibrary.org/event/neon-light-art-show-630821
END:VEVENT
END:VCALENDAR
