BEGIN:VCALENDAR
VERSION:2.0
PRODID:-//Library Market//iCal Export//EN
BEGIN:VEVENT
SUMMARY:Stained Glass Creation--Experience Art Like Never Before! 
UID:630840
DTSTAMP:20260422T063700Z
DTSTART:20260716T190000Z
DTEND:20260716T200000Z
LOCATION:5600 NW 122nd Street, Oklahoma City, OK 73142, United States
ROOM: Meeting Room B (Northwest)
DESCRIPTION:Step into a canvas of light, shapes, colors, lines and shadows
  using stain glass creations and mini LED flashlights. Immerse yourself an
 d become a part of the art itself. All registered and participating guests
  will walk away having had a unique art experience, as well as taking home
  a stained glass piece of art. *CAUTION - We will be using real glass. Af
 ter the program, make sure the check out the SOLID LIGHT exhibit at Oklaho
 ma Contemporary, 11 NW 11th St, Oklahoma City. Admission to the galleries
  is always free. This event is made possible by generous funding from Kirk
 patrick Foundation. 
URL:https://www.metrolibrary.org/event/stained-glass-creation-experience-a
 rt-never-630840
END:VEVENT
END:VCALENDAR
