BEGIN:VCALENDAR
VERSION:2.0
PRODID:-//Library Market//iCal Export//EN
BEGIN:VEVENT
SUMMARY:SOLID LIGHT - Pepper&#039;s Ghost
UID:630927
DTSTAMP:20260422T042100Z
DTSTART:20260504T140000Z
DTEND:20260517T230000Z
LOCATION:5901 NW 63rd Street, Warr Acres, OK 73132, United States
ROOM: Onsite (Warr Acres)
DESCRIPTION:Ever wonder how funhouses and classic movies created ghosts or
  fantastical beings out of thin air? Many were created by the Pepper&#039;
 s Ghost illusion. Popularized by John Henry Pepper, this optical illusion 
 projects an image of a real object across the room. The effect can be othe
 rworldly. This kit allows kids 7-12 to create their own smaller version at
  home. Kits are available while supplies last. This kit is made possible b
 y Kirkpatrick Foundation.
URL:https://www.metrolibrary.org/event/solid-light-peppers-ghost-630927
END:VEVENT
END:VCALENDAR
