BEGIN:VCALENDAR
VERSION:2.0
PRODID:-//Library Market//iCal Export//EN
BEGIN:VEVENT
SUMMARY:SOLID LIGHT - Glow in the Dark Embroidery
UID:630931
DTSTAMP:20260422T042100Z
DTSTART:20260526T140000Z
DTEND:20260531T230000Z
LOCATION:5901 NW 63rd Street, Warr Acres, OK 73132, United States
ROOM: Onsite (Warr Acres)
DESCRIPTION:Create a special and dynamic work of art—-this embroidery pr
 oject shifts in appearance from day to night using glow-in-the-dark yarn. 
 Inspired by the shapes of light in the current Oklahoma Contemporary exhib
 it SOLID LIGHT, you can create vibrant, abstract embroidery...then watch i
 t transform when you turn off the light. This kit contains a sewing needle
  and is best for teens and adults. Kits are available while supplies last.
  This kit is made possible by Kirkpatrick Foundation.
URL:https://www.metrolibrary.org/event/solid-light-glow-dark-embroidery-63
 0931
END:VEVENT
END:VCALENDAR
