BEGIN:VCALENDAR
VERSION:2.0
PRODID:-//Library Market//iCal Export//EN
BEGIN:VEVENT
SUMMARY:National Poetry Month Grab Bag Kit
UID:631002
DTSTAMP:20260423T044800Z
DTSTART:20260422T190000Z
DTEND:20260501T020000Z
LOCATION:
DESCRIPTION:Please enjoy a National Poetry Month grab bag to help you cele
 brate National Poetry Month. Each bag includes some encouraging stickers r
 elated to poetry, a random poem, and a printed out letter sized copy of th
 e official National Poetry Month poster! There is no registration required
 . Get your bag while supplies last! 
URL:https://www.metrolibrary.org/event/national-poetry-month-grab-bag-kit-
 631002
END:VEVENT
END:VCALENDAR
