BEGIN:VCALENDAR
VERSION:2.0
PRODID:-//Library Market//iCal Export//EN
BEGIN:VEVENT
SUMMARY:Community and Coffee
UID:631235
DTSTAMP:20260423T012800Z
DTSTART:20260514T140000Z
DTEND:20260514T150000Z
LOCATION:300 Park Avenue, Oklahoma City, OK 73102, United States
ROOM: Route 66 Computer Lab (Downtown)
DESCRIPTION:Join us for Community and Coffee. We will have free coffee and
  conversation topics for the community. This meeting will have some speci
 al activities related to National Poetry Month! 
URL:https://www.metrolibrary.org/event/community-and-coffee-631235
END:VEVENT
END:VCALENDAR
