BEGIN:VCALENDAR
VERSION:2.0
PRODID:-//Library Market//iCal Export//EN
BEGIN:VEVENT
SUMMARY:Pepper&#039;s Ghost Take Home Kit
UID:631359
DTSTAMP:20260423T215200Z
DTSTART:20260706T050000Z
DTEND:20260712T050000Z
LOCATION:
DESCRIPTION:Ever wonder how funhouses and classic movies created ghosts or
  fantastical beings out of thin air? Many were created by the Pepper&#039;
 s Ghost illusion. Popularized by John Henry Pepper, this optical illusion 
 uses projection to create an image of a real object across the room! The e
 ffect can be otherworldly. This kit allows children ages 7-12 to create th
 eir own smaller version of Pepper&#039;s Ghost Illusion at home. This kit 
 is made possible by Kirkpatrick Foundation.Come by and pick yours up - no 
 registration required!
URL:https://www.metrolibrary.org/event/peppers-ghost-take-home-kit-631359
END:VEVENT
END:VCALENDAR
